BEGIN:VCALENDAR
VERSION:2.0
PRODID:-//La Motte-Servolex Cyclisme 73 (Savoie) - LMSC73 - ECPv6.15.20//NONSGML v1.0//EN
CALSCALE:GREGORIAN
METHOD:PUBLISH
X-WR-CALNAME:La Motte-Servolex Cyclisme 73 (Savoie) - LMSC73
X-ORIGINAL-URL:https://lmsc73.com
X-WR-CALDESC:Évènements pour La Motte-Servolex Cyclisme 73 (Savoie) - LMSC73
REFRESH-INTERVAL;VALUE=DURATION:PT1H
X-Robots-Tag:noindex
X-PUBLISHED-TTL:PT1H
BEGIN:VTIMEZONE
TZID:Europe/Paris
BEGIN:DAYLIGHT
TZOFFSETFROM:+0100
TZOFFSETTO:+0200
TZNAME:CEST
DTSTART:20250330T010000
END:DAYLIGHT
BEGIN:STANDARD
TZOFFSETFROM:+0200
TZOFFSETTO:+0100
TZNAME:CET
DTSTART:20251026T010000
END:STANDARD
BEGIN:DAYLIGHT
TZOFFSETFROM:+0100
TZOFFSETTO:+0200
TZNAME:CEST
DTSTART:20260329T010000
END:DAYLIGHT
BEGIN:STANDARD
TZOFFSETFROM:+0200
TZOFFSETTO:+0100
TZNAME:CET
DTSTART:20261025T010000
END:STANDARD
BEGIN:DAYLIGHT
TZOFFSETFROM:+0100
TZOFFSETTO:+0200
TZNAME:CEST
DTSTART:20270328T010000
END:DAYLIGHT
BEGIN:STANDARD
TZOFFSETFROM:+0200
TZOFFSETTO:+0100
TZNAME:CET
DTSTART:20271031T010000
END:STANDARD
END:VTIMEZONE
BEGIN:VEVENT
DTSTART;TZID=Europe/Paris:20260425T140000
DTEND;TZID=Europe/Paris:20260425T160000
DTSTAMP:20260421T114728
CREATED:20260116T180707Z
LAST-MODIFIED:20260116T180833Z
UID:5017-1777125600-1777132800@lmsc73.com
SUMMARY:Écoles de cyclisme - U7 À U15
DESCRIPTION:Jeux et sprints
URL:https://lmsc73.com/events/ecoles-de-cyclisme-u7-a-u15/
LOCATION:La Motte-Servolex – Collège George Sand\, 2351 Av. René Cassin\, La Motte-Servolex\, 73290\, France
END:VEVENT
END:VCALENDAR